BEGIN:VCALENDAR
VERSION:2.0
PRODID:-//occaonline.org//NONSGML kigkonsult.se iCalcreator 2.30.10//
CALSCALE:GREGORIAN
METHOD:PUBLISH
UID:2a3ac0a1-cd7c-41cc-8317-3fb5f97dc18a
X-WR-CALDESC:The OCCA Housing Subcommittee is a subcommitee of the Public P
 olicy Committee.  The committee meets monthly and is focused on acheiving 
 the following OCCA strategic goals: 1) Develop housing options for the 'Ha
 rd-to-Place' population and 2)Increase access to homeless services and per
 manent housing for halfway clients.  The committee is open to interested p
 articipants from all OCCA member agencies\, and we hope that you'll join u
 s if you have interest and/or expertise in working to expand housing optio
 ns for the criminal justice involved population.\n\n
X-WR-RELCALID:d101a5a63f2f66af74f1b35acaaf628a
X-WR-TIMEZONE:America/New_York
BEGIN:VTIMEZONE
TZID:America/New_York
BEGIN:STANDARD
TZNAME:EST
DTSTART:20241103T020000
TZOFFSETFROM:-0400
TZOFFSETTO:-0500
RDATE:20251102T020000
END:STANDARD
BEGIN:DAYLIGHT
TZNAME:EDT
DTSTART:20240310T020000
TZOFFSETFROM:-0500
TZOFFSETTO:-0400
RDATE:20250309T020000
RDATE:20260308T020000
END:DAYLIGHT
END:VTIMEZONE
BEGIN:VEVENT
UID:8222b7f3-e30d-48d1-9d04-d2c176898eed
DTSTAMP:20260422T050442Z
DESCRIPTION:The OCCA Housing Subcommittee is a subcommitee of the Public Po
 licy Committee.  The committee meets monthly and is focused on acheiving t
 he following OCCA strategic goals: 1) Develop housing options for the 'Har
 d-to-Place' population and 2)Increase access to homeless services and perm
 anent housing for halfway clients.  The committee is open to interested pa
 rticipants from all OCCA member agencies\, and we hope that you'll join us
  if you have interest and/or expertise in working to expand housing option
 s for the criminal justice involved population.\n\n
DTSTART;TZID=America/New_York:20250103T100000
DTEND;TZID=America/New_York:20250103T110000
LOCATION:https://us02web.zoom.us/j/89626440313
SUMMARY:OCCA Housing Subcommittee Monthly Meeting
END:VEVENT
END:VCALENDAR
