BEGIN:VCALENDAR
VERSION:2.0
PRODID:-//occaonline.org//NONSGML kigkonsult.se iCalcreator 2.30.10//
CALSCALE:GREGORIAN
METHOD:PUBLISH
UID:8adae735-a3fd-4ffd-b214-7a5ce47bb2f2
X-WR-CALDESC:
X-WR-RELCALID:4042f84b6a297893e12e36ed4781626d
X-WR-TIMEZONE:America/New_York
BEGIN:VTIMEZONE
TZID:America/New_York
BEGIN:STANDARD
TZNAME:EST
DTSTART:20241103T020000
TZOFFSETFROM:-0400
TZOFFSETTO:-0500
RDATE:20251102T020000
RDATE:20261101T020000
END:STANDARD
BEGIN:DAYLIGHT
TZNAME:EDT
DTSTART:20250309T020000
TZOFFSETFROM:-0500
TZOFFSETTO:-0400
RDATE:20260308T020000
END:DAYLIGHT
END:VTIMEZONE
BEGIN:VEVENT
UID:15f81ebd-45cf-4b56-89be-43c54dae56d5
DTSTAMP:20260421T214953Z
DESCRIPTION:
DTSTART;TZID=America/New_York:20250515T070000
DTEND;TZID=America/New_York:20250516T143000
LOCATION:Nationwide Hotel and Conference Center\, 100 Green Meadows Drive S
 outh\, Lewis Center\, OH 43035 US
SUMMARY:OCCA May 15-16\, 2025 Annual Conference
END:VEVENT
END:VCALENDAR
